BEGIN:VCALENDAR
VERSION:2.0
PRODID:-//Segelclub Wendelsee Thun//NONSGML kigkonsult.se iCalcreator 2.16.
 12//
METHOD:PUBLISH
X-MS-OLK-FORCEINSPECTOROPEN:TRUE
BEGIN:VEVENT
UID:20260419T141243CEST-4978zWNWNj@Segelclub Wendelsee Thun
DTSTAMP:20260419T121243Z
DESCRIPTION:\n\nFreitag\, 11. Dezember 2026\nSCWe-Senioren treffen sich im 
 Burehuus Thun zum Apéro zwischendurch.
DTSTART:20261211T103000
DTEND:20261211T113000
LOCATION:Burehuus
ORGANIZER:MAILTO:Segelclub Wendelsee Thun <info@scwe.ch>
SUMMARY:Apéro zwischendurch
END:VEVENT
END:VCALENDAR
