BEGIN:VCALENDAR
VERSION:2.0
PRODID:-//Segelclub Wendelsee Thun//NONSGML kigkonsult.se iCalcreator 2.16.
 12//
METHOD:PUBLISH
X-MS-OLK-FORCEINSPECTOROPEN:TRUE
BEGIN:VEVENT
UID:20260419T141423CEST-4373b7vsmJ@Segelclub Wendelsee Thun
DTSTAMP:20260419T121423Z
DESCRIPTION:\n\nFreitag\, 16. Oktober 2026\nSCWe-Senioren treffen sich im B
 urehuus Thun zum Apéro zwischendurch.
DTSTART:20261016T103000
DTEND:20261016T113000
LOCATION:Burehuus
ORGANIZER:MAILTO:Segelclub Wendelsee Thun <info@scwe.ch>
SUMMARY:Apéro zwischendurch
END:VEVENT
END:VCALENDAR
