BEGIN:VCALENDAR
VERSION:2.0
PRODID:-//Segelclub Wendelsee Thun//NONSGML kigkonsult.se iCalcreator 2.16.
 12//
METHOD:PUBLISH
X-MS-OLK-FORCEINSPECTOROPEN:TRUE
BEGIN:VEVENT
UID:20260419T140946CEST-88617C5aRO@Segelclub Wendelsee Thun
DTSTAMP:20260419T120946Z
DESCRIPTION:
DTSTART:20261106T190000
DTEND:20261106T233000
LOCATION:SCWe
ORGANIZER:MAILTO:Segelclub Wendelsee Thun <info@scwe.ch>
SUMMARY:November-Höck
END:VEVENT
END:VCALENDAR
