BEGIN:VCALENDAR
VERSION:2.0
PRODID:-//Segelclub Wendelsee Thun//NONSGML kigkonsult.se iCalcreator 2.16.
 12//
METHOD:PUBLISH
X-MS-OLK-FORCEINSPECTOROPEN:TRUE
BEGIN:VEVENT
UID:20260419T141423CEST-1773H8vVgb@Segelclub Wendelsee Thun
DTSTAMP:20260419T121423Z
DESCRIPTION:
DTSTART:20261010T133000
DTEND:20261010T200000
LOCATION:See / Clubhaus
ORGANIZER:MAILTO:Segelclub Wendelsee Thun <info@scwe.ch>
SUMMARY:Absegeln 2026
END:VEVENT
END:VCALENDAR
