BEGIN:VCALENDAR
VERSION:2.0
PRODID:-//Segelclub Wendelsee Thun//NONSGML kigkonsult.se iCalcreator 2.16.
 12//
METHOD:PUBLISH
X-MS-OLK-FORCEINSPECTOROPEN:TRUE
BEGIN:VEVENT
UID:20260419T152625CEST-2120SPHfAg@Segelclub Wendelsee Thun
DTSTAMP:20260419T132625Z
DESCRIPTION:\n\nDas genehmigte Jahresprogramm 2026/2027 steht zur Verfügung
 .\n\nDer Vorstand/ 21.03.2026
DTSTART:20260201T000000
DTEND:20270331T000000
LOCATION:Thun\, unt Seebecken
ORGANIZER:MAILTO:Segelclub Wendelsee Thun <info@scwe.ch>
SUMMARY:Jahresprogramm 2026/ 2027
END:VEVENT
END:VCALENDAR
