BEGIN:VCALENDAR
VERSION:2.0
PRODID:-//Segelclub Wendelsee Thun//NONSGML kigkonsult.se iCalcreator 2.16.
 12//
METHOD:PUBLISH
X-MS-OLK-FORCEINSPECTOROPEN:TRUE
BEGIN:VEVENT
UID:20260419T141455CEST-6367wG6Vwz@Segelclub Wendelsee Thun
DTSTAMP:20260419T121455Z
DESCRIPTION:
DTSTART:20260605T190000
DTEND:20260605T230000
LOCATION:Clublokal
ORGANIZER:MAILTO:Segelclub Wendelsee Thun <info@scwe.ch>
SUMMARY:Junihöck 2026
END:VEVENT
END:VCALENDAR
