BEGIN:VCALENDAR
VERSION:2.0
PRODID:-//Segelclub Wendelsee Thun//NONSGML kigkonsult.se iCalcreator 2.16.
 12//
METHOD:PUBLISH
X-MS-OLK-FORCEINSPECTOROPEN:TRUE
BEGIN:VEVENT
UID:20260419T141455CEST-3808V6VvxS@Segelclub Wendelsee Thun
DTSTAMP:20260419T121455Z
DESCRIPTION:Einhandregatta\n\nMit Känguruhstart nach Yardstick für Yachten\
 , Jollen und Mehrrümpfer.
DTSTART:20260620T133000
DTEND:20260620T180000
LOCATION:Unteres Seebecken/ SCWe
ORGANIZER:MAILTO:Segelclub Wendelsee Thun <info@scwe.ch>
SUMMARY:Einhand-Regatta 2026
END:VEVENT
END:VCALENDAR
