BEGIN:VCALENDAR
VERSION:2.0
PRODID:-//Segelclub Wendelsee Thun//NONSGML kigkonsult.se iCalcreator 2.16.
 12//
METHOD:PUBLISH
X-MS-OLK-FORCEINSPECTOROPEN:TRUE
BEGIN:VEVENT
UID:20260419T142533CEST-9659s7rTHB@Segelclub Wendelsee Thun
DTSTAMP:20260419T122533Z
DESCRIPTION:\n\nWir treffen uns um 13:30 Uhr ausserhalb des Lachenkanals un
 d fahren als Flottillie einen Kurs bis auf die Höhe Fischzucht\, dann wied
 er zurück Richtung Thun (Kurs siehe Ausschreibung). .\nAnschliessend Apéro
  im oder beim Clubhaus.\n\n12.04.2026/ der Vorstand
DTSTART:20260509T133000
DTEND:20260509T180000
LOCATION:Unteres Seebecken/Club
ORGANIZER:MAILTO:Segelclub Wendelsee Thun <info@scwe.ch>
SUMMARY:Ansegeln 2026
END:VEVENT
END:VCALENDAR
