BEGIN:VCALENDAR
VERSION:2.0
PRODID:-//Segelclub Wendelsee Thun//NONSGML kigkonsult.se iCalcreator 2.16.
 12//
METHOD:PUBLISH
X-MS-OLK-FORCEINSPECTOROPEN:TRUE
BEGIN:VEVENT
UID:20260419T141541CEST-8368WDVF7c@Segelclub Wendelsee Thun
DTSTAMP:20260419T121541Z
DESCRIPTION:\n\nApéro zwischendurch für die SCWe-Senioren\n\nEinfach kommen
 \; ohne Anmeldung.\nAm 51. Gründungstag am Freitag\, 15. Mai 2026 im SCWe-
 Lokal.\nUm 10:30 Uhr bis 12:00 Uhr\n\nGetränke können vom SCWe-Beizli bezo
 gen werden.
DTSTART:20260515T103000
DTEND:20260515T120000
LOCATION:SCWe-Lokal
ORGANIZER:MAILTO:Segelclub Wendelsee Thun <info@scwe.ch>
SUMMARY:Jub-Apéro zwischendurch 
END:VEVENT
END:VCALENDAR
