BEGIN:VCALENDAR
VERSION:2.0
PRODID:-//Segelclub Wendelsee Thun//NONSGML kigkonsult.se iCalcreator 2.16.
 12//
METHOD:PUBLISH
X-MS-OLK-FORCEINSPECTOROPEN:TRUE
BEGIN:VEVENT
UID:20260419T172424CEST-2512J9lOmf@Segelclub Wendelsee Thun
DTSTAMP:20260419T152424Z
DESCRIPTION:
DTSTART:20170203T190000
DTEND:20170203T235900
ORGANIZER:MAILTO:Segelclub Wendelsee Thun <info@scwe.ch>
SUMMARY:Fondue Abend
END:VEVENT
END:VCALENDAR
