BEGIN:VCALENDAR
VERSION:2.0
PRODID:-//Segelclub Wendelsee Thun//NONSGML kigkonsult.se iCalcreator 2.16.
 12//
METHOD:PUBLISH
X-MS-OLK-FORCEINSPECTOROPEN:TRUE
BEGIN:VEVENT
UID:20260419T143654CEST-5005Mm3CAz@Segelclub Wendelsee Thun
DTSTAMP:20260419T123654Z
DESCRIPTION:\nEiertütsche im SCWe für die Senioren\n\nAm Freitag\, 17. Apri
 l 2026 im Clubraum oben.\nVon 10:30 Uhr bis ca 12:00 Uhr.\n\nUm eine Anmel
 dung bis Mittwoch wird gebeten.\n-> Siehe Mail.\n\nTeam: Paul\, Juan und R
 osmarie\n \n
DTSTART:20260417T103000
DTEND:20260417T120000
LOCATION:SCWe-Lokal
ORGANIZER:MAILTO:Segelclub Wendelsee Thun <info@scwe.ch>
SUMMARY:Oster-Apéro zwischendurch
END:VEVENT
END:VCALENDAR
