BEGIN:VCALENDAR
VERSION:2.0
PRODID:-//Segelclub Wendelsee Thun//NONSGML kigkonsult.se iCalcreator 2.16.
 12//
METHOD:PUBLISH
X-MS-OLK-FORCEINSPECTOROPEN:TRUE
BEGIN:VEVENT
UID:20260419T144018CEST-92934MEGUf@Segelclub Wendelsee Thun
DTSTAMP:20260419T124018Z
DESCRIPTION:\n\nAm Freitag\, 10. April 2026 um 19:00 Uhr\n\nDas Team Koni u
 nd Ruth überraschen uns mit einem guten Essen.\nDetails siehe in der Einla
 dung.\n\nClubwirte und Helfer: Paul\, Juan und Silvia\n\nAnmeldung gerne b
 is Dienstag\, 7. April 2026 an info@scwe.ch\n\n19.03.2026/ der Vorstand
DTSTART:20260410T190000
DTEND:20260410T233000
LOCATION:SCWe-Lokal
ORGANIZER:MAILTO:Segelclub Wendelsee Thun <info@scwe.ch>
SUMMARY:Aprilhöck 2026
END:VEVENT
END:VCALENDAR
