BEGIN:VCALENDAR
VERSION:2.0
PRODID:-//Segelclub Wendelsee Thun//NONSGML kigkonsult.se iCalcreator 2.16.
 12//
METHOD:PUBLISH
X-MS-OLK-FORCEINSPECTOROPEN:TRUE
BEGIN:VEVENT
UID:20260419T143838CEST-6574Aak76A@Segelclub Wendelsee Thun
DTSTAMP:20260419T123838Z
DESCRIPTION:\nApéro zwischendurch für die SCWe-Senioren.\n\nEinfach kommen\
 ; ohne Anmeldung.\nJeweils etwa Mitte Monat von 10:30 Uhr bis 11:30 Uhr
DTSTART:20260213T103000
DTEND:20260213T113000
LOCATION:Restaurant Burehuus
ORGANIZER:MAILTO:Segelclub Wendelsee Thun <info@scwe.ch>
SUMMARY:Apéro zwischendurch
END:VEVENT
END:VCALENDAR
