BEGIN:VCALENDAR
VERSION:2.0
PRODID:-//Segelclub Wendelsee Thun//NONSGML kigkonsult.se iCalcreator 2.16.
 12//
METHOD:PUBLISH
X-MS-OLK-FORCEINSPECTOROPEN:TRUE
BEGIN:VEVENT
UID:20260419T153317CEST-2108jwi02m@Segelclub Wendelsee Thun
DTSTAMP:20260419T133317Z
DESCRIPTION:\n\nHelferabend gemäss persönlicher Einladung.
DTSTART:20260306T190000
DTEND:20260306T230000
LOCATION:Burehuus
ORGANIZER:MAILTO:Segelclub Wendelsee Thun <info@scwe.ch>
SUMMARY:Helferabend 2026
END:VEVENT
END:VCALENDAR
