BEGIN:VCALENDAR
VERSION:2.0
PRODID:-//Segelclub Wendelsee Thun//NONSGML kigkonsult.se iCalcreator 2.16.
 12//
METHOD:PUBLISH
X-MS-OLK-FORCEINSPECTOROPEN:TRUE
BEGIN:VEVENT
UID:20260419T142523CEST-2456c40RZU@Segelclub Wendelsee Thun
DTSTAMP:20260419T122523Z
DESCRIPTION:\nApéro zwischendurch für die SCWe-Senioren.\n\nEinfach kommen\
 ; ohne Anmeldung.\nJeweils etwa Mitte Monat von 10:30 Uhr bis 11:30 Uhr
DTSTART:20260313T103000
DTEND:20260313T113000
LOCATION:Restaurant Burehuus
ORGANIZER:MAILTO:Segelclub Wendelsee Thun <info@scwe.ch>
SUMMARY:Apéro zwischendurch
END:VEVENT
END:VCALENDAR
