BEGIN:VCALENDAR
VERSION:2.0
PRODID:-//Segelclub Wendelsee Thun//NONSGML kigkonsult.se iCalcreator 2.16.
 12//
METHOD:PUBLISH
X-MS-OLK-FORCEINSPECTOROPEN:TRUE
BEGIN:VEVENT
UID:20260419T143838CEST-3801cmkjhf@Segelclub Wendelsee Thun
DTSTAMP:20260419T123838Z
DESCRIPTION:Beginn um 19:30 Uhr\nDie GV findet im Restaurant „TRANSfair Gwa
 tt\,\, im Schoren 23\, 3604 Thun'Transfer' statt.\n\nNach der GV offeriert
  der Club einen Apéro.\n\n\nDetails siehe in der Einladung.
DTSTART:20260320T193000
DTEND:20260320T220000
LOCATION:'TRANSfer' im Schoren
ORGANIZER:MAILTO:Segelclub Wendelsee Thun <info@scwe.ch>
SUMMARY:SCWe-GV 2026
END:VEVENT
END:VCALENDAR
