BEGIN:VCALENDAR
VERSION:2.0
PRODID:-//Segelclub Wendelsee Thun//NONSGML kigkonsult.se iCalcreator 2.16.
 12//
METHOD:PUBLISH
X-MS-OLK-FORCEINSPECTOROPEN:TRUE
BEGIN:VEVENT
UID:20260419T155359CEST-84295wZr0T@Segelclub Wendelsee Thun
DTSTAMP:20260419T135359Z
DESCRIPTION:\n\nWir starten die Saison 2026 mit dem traditionellen Fondueab
 end.\nVor dem Dessert fahren wir mit schönen Impressionen von Bea und Ueli
  Stricker in ferne Gewässer.\n- Beginn bereits um 18:30 Uhr\n- Details sie
 he in der Beilage\n\nAnmeldung bis Di\, 3. Febr 2026 an Heinz Gasser\n\n17
 .01.2026 der Vorstand
DTSTART:20260206T183000
DTEND:20260206T230000
LOCATION:SCWe-Lokal
ORGANIZER:MAILTO:Segelclub Wendelsee Thun <info@scwe.ch>
SUMMARY:Fonduehöck 2026
END:VEVENT
END:VCALENDAR
