BEGIN:VCALENDAR
VERSION:2.0
PRODID:-//Segelclub Wendelsee Thun//NONSGML kigkonsult.se iCalcreator 2.16.
 12//
METHOD:PUBLISH
X-MS-OLK-FORCEINSPECTOROPEN:TRUE
BEGIN:VEVENT
UID:20260419T153306CEST-7743GSVHM1@Segelclub Wendelsee Thun
DTSTAMP:20260419T133306Z
DESCRIPTION:\nApéro zwischendurch für die SCWe-Senioren.\n\nEinfach kommen\
 ; ohne Anmeldung.\nJeweils etwa Mitte Monat von 10:30 Uhr bis 11:30 Uhr\n
DTSTART:20260116T103000
DTEND:20260116T113000
LOCATION:Restaurant Burehuus
ORGANIZER:MAILTO:Segelclub Wendelsee Thun <info@scwe.ch>
SUMMARY:Apéro zwischendurch
END:VEVENT
END:VCALENDAR
