BEGIN:VCALENDAR
VERSION:2.0
PRODID:-//Segelclub Wendelsee Thun//NONSGML kigkonsult.se iCalcreator 2.16.
 12//
METHOD:PUBLISH
X-MS-OLK-FORCEINSPECTOROPEN:TRUE
BEGIN:VEVENT
UID:20260419T152830CEST-7334SWz5US@Segelclub Wendelsee Thun
DTSTAMP:20260419T132830Z
DESCRIPTION:\nAuszug aus dem Regattakalender 2026\n\nTrainings und Regatten
  für Breitensportler\n- TBSV-Trainings: Ausschreibung\n- TBSV-Cup\n- SCWe-
 Cup \n- TBSV-Einhand beim SCWe: Ausschreibung\n- Classic\, Clubregatta\n- 
 TBSV-Rangverkündigung\n\nSiehe im Anhang rechts\n
DTSTART:20260101T193000
DTEND:20260930T200000
LOCATION:Thunersee
ORGANIZER:MAILTO:Segelclub Wendelsee Thun <info@scwe.ch>
SUMMARY:Trainings und Regatten 2026
END:VEVENT
END:VCALENDAR
