BEGIN:VCALENDAR
VERSION:2.0
PRODID:-//Segelclub Wendelsee Thun//NONSGML kigkonsult.se iCalcreator 2.16.
 12//
METHOD:PUBLISH
X-MS-OLK-FORCEINSPECTOROPEN:TRUE
BEGIN:VEVENT
UID:20260419T155359CEST-3397ieTBuD@Segelclub Wendelsee Thun
DTSTAMP:20260419T135359Z
DESCRIPTION:\n\nGeselliger\, seemännischer Anlass im Güetital mit Uebernach
 tung für die Geniesser\n\nDatum:            Sa\, 9. August 2025\nZeit:    
              Ab 15:00 Uhr im Güetital\nApéro:             Ca ab 16:00 Uhr
 \nDetails:            Siehe in der Einladung\nAnmeldung:    Ja gerne\n\nSe
 emannschaft\nFestmachen an der Mole: Siehe Beilage 'Festmachen'\n\n26.07.2
 025/ 03.08.2025 der Vorstand
DTSTART:20250809T150000
DTEND:20250810T150000
LOCATION:Güetital
ORGANIZER:MAILTO:Segelclub Wendelsee Thun <info@scwe.ch>
SUMMARY:SCWe-Samschtygsplousch
END:VEVENT
END:VCALENDAR
