BEGIN:VCALENDAR
VERSION:2.0
PRODID:-//Segelclub Wendelsee Thun//NONSGML kigkonsult.se iCalcreator 2.16.
 12//
METHOD:PUBLISH
X-MS-OLK-FORCEINSPECTOROPEN:TRUE
BEGIN:VEVENT
UID:20260419T155447CEST-2466TwslpR@Segelclub Wendelsee Thun
DTSTAMP:20260419T135447Z
DESCRIPTION:\nGemütlicher Raclette-Abend zum Jahresausklang\n\nDatum\, Zeit
 :   Samstag\, 27.12.2025 um 19:00 Uhr\nDetails:            Gemäss Einladun
 g\nAnmeldung:    Ja unbedingt bis Sa\, 20.12.2025\n                       
   direkt an Altjahrshöck\nCrew:               Heinz\, Erika\, Beat\, Robo 
 und Paul\n\n07.12.2025/ 20.12.2025 der Vorstand
DTSTART:20251227T190000
DTEND:20251227T233000
LOCATION:SCWe-Lokal
ORGANIZER:MAILTO:Segelclub Wendelsee Thun <info@scwe.ch>
SUMMARY:Altjahrshöck 2025
END:VEVENT
END:VCALENDAR
