BEGIN:VCALENDAR
VERSION:2.0
PRODID:-//Segelclub Wendelsee Thun//NONSGML kigkonsult.se iCalcreator 2.16.
 12//
METHOD:PUBLISH
X-MS-OLK-FORCEINSPECTOROPEN:TRUE
BEGIN:VEVENT
UID:20260419T154157CEST-6153uOAU3P@Segelclub Wendelsee Thun
DTSTAMP:20260419T134157Z
DESCRIPTION:\nNovemberhöck am Freitag\, 7. November 2025 um 19:00 Uhr mit R
 uedi\, Marianne und Silvia\nEin feines Essen und interessante Fotos warten
  auf uns.\n\nDetails siehe in der Einladung.\n\nUm eine Anmeldung bis Mitt
 woch\, 5. November an info@scwe.ch wird gebeten.\n \n\n19.10.2025/ der Vor
 stand\n
DTSTART:20251107T190000
DTEND:20251107T233000
LOCATION:SCWe-Lokal
ORGANIZER:MAILTO:Segelclub Wendelsee Thun <info@scwe.ch>
SUMMARY:Novemberhöck 2025
END:VEVENT
END:VCALENDAR
