BEGIN:VCALENDAR
VERSION:2.0
PRODID:-//Segelclub Wendelsee Thun//NONSGML kigkonsult.se iCalcreator 2.16.
 12//
METHOD:PUBLISH
X-MS-OLK-FORCEINSPECTOROPEN:TRUE
BEGIN:VEVENT
UID:20260419T154254CEST-5855EfWlpb@Segelclub Wendelsee Thun
DTSTAMP:20260419T134254Z
DESCRIPTION:\nAm Freitag\, 5. Dezember 2025 um 19:00 Uhr\nGrittibänze: Dies
 es Jahr weniger süss\, dafür mit Salzigem\, Güezi\, Ingwer-Zitronentee\, S
 chwarztee mit oder ohne Rum.\nWeitere alkoholische Getränke auf eigene Kos
 ten.\nDas Höckteam: Marta\, Maja und Fritz\nKosten Fr 10.-\n\nAnmeldung bi
 tte bis Dienstag\, 2. Dezember 2025 an info@scwe.ch\n\n22.11.2025/ der Vor
 stand
DTSTART:20251205T190000
DTEND:20251205T230000
LOCATION:SCWe-Lokal
ORGANIZER:MAILTO:Segelclub Wendelsee Thun <info@scwe.ch>
SUMMARY:Chlousehöck 2025
END:VEVENT
END:VCALENDAR
