BEGIN:VCALENDAR
VERSION:2.0
PRODID:-//Segelclub Wendelsee Thun//NONSGML kigkonsult.se iCalcreator 2.16.
 12//
METHOD:PUBLISH
X-MS-OLK-FORCEINSPECTOROPEN:TRUE
BEGIN:VEVENT
UID:20260419T153317CEST-4741X5vcwJ@Segelclub Wendelsee Thun
DTSTAMP:20260419T133317Z
DESCRIPTION:\n\nAbsegeln mit Nachtessen\n\nFreies Segeln am Nachmittag.\nUm
  15:30 Uhr treffen wir uns im Päckli vor Anker zum Apéro und Klönsnack.\nA
 b 18:00 Uhr Nachtessen im Clublokal.\n\nBei Regenwetter treffen wir uns di
 rekt im Clubraum zum Apéro und Nachtessen.\n-> das Absegeln auf dem Wasser
  findet statt\n\n08.09.2025/ PM\n
DTSTART:20251011T133000
DTEND:20251011T200000
LOCATION:Unteres Seebecken/ Clubraum
ORGANIZER:MAILTO:Segelclub Wendelsee Thun <info@scwe.ch>
SUMMARY:Absegeln 2025
END:VEVENT
END:VCALENDAR
