BEGIN:VCALENDAR
VERSION:2.0
PRODID:-//Segelclub Wendelsee Thun//NONSGML kigkonsult.se iCalcreator 2.16.
 12//
METHOD:PUBLISH
X-MS-OLK-FORCEINSPECTOROPEN:TRUE
BEGIN:VEVENT
UID:20260419T143751CEST-2146mTXx70@Segelclub Wendelsee Thun
DTSTAMP:20260419T123751Z
DESCRIPTION:Apéro zwischendurch für die Senioren und Seniorinnen des SCWe\n
 \nDatum\, Zeit    Fr\, 12. Dez 2025 um 10:30 Uhr\nOrt                   Bu
 rehuus Thun\nAnmeldung    keine\n\n19.04.2025/ das Seniorenteam\n
DTSTART:20251212T103000
DTEND:20251212T113000
LOCATION:Restaurant Burehuus
ORGANIZER:MAILTO:Segelclub Wendelsee Thun <info@scwe.ch>
SUMMARY:Apéro zwischendurch
END:VEVENT
END:VCALENDAR
