BEGIN:VCALENDAR
VERSION:2.0
PRODID:-//Segelclub Wendelsee Thun//NONSGML kigkonsult.se iCalcreator 2.16.
 12//
METHOD:PUBLISH
X-MS-OLK-FORCEINSPECTOROPEN:TRUE
BEGIN:VEVENT
UID:20260419T142523CEST-5123FnFBvx@Segelclub Wendelsee Thun
DTSTAMP:20260419T122523Z
DESCRIPTION:Apéro zwischendurch für die Senioren und Seniorinnen des SCWe\n
 \nDatum\, Zeit    Fr\, 14. Nov 2025 von 10:30 Uhr bis etwa 11:30 Uhr\nOrt 
                   Burehuus Thun\nAnmeldung    keine\n\n19.04.2025/ das Sen
 iorenteam\n
DTSTART:20251114T103000
DTEND:20251114T113000
LOCATION:Burehuus
ORGANIZER:MAILTO:Segelclub Wendelsee Thun <info@scwe.ch>
SUMMARY:Apéro zwischendurch
END:VEVENT
END:VCALENDAR
