BEGIN:VCALENDAR
VERSION:2.0
PRODID:-//Segelclub Wendelsee Thun//NONSGML kigkonsult.se iCalcreator 2.16.
 12//
METHOD:PUBLISH
X-MS-OLK-FORCEINSPECTOROPEN:TRUE
BEGIN:VEVENT
UID:20260419T142611CEST-5325lvxM2T@Segelclub Wendelsee Thun
DTSTAMP:20260419T122611Z
DESCRIPTION:Apéro zwischendurch für die Senioren und Seniorinnen des SCWe\n
 \nDatum\, Zeit   \nFr\, 17. Okt 2025 von 10:30 Uhr bis\nca 11:30 Uhr\n\nOr
 t                   Burehuus Thun\nAnmeldung    keine\n\n07.09.2025/ das S
 eniorenteam
DTSTART:20251017T103000
DTEND:20251017T113000
LOCATION:Burehuus
ORGANIZER:MAILTO:Segelclub Wendelsee Thun <info@scwe.ch>
SUMMARY:Apéro zwischendurch
END:VEVENT
END:VCALENDAR
