BEGIN:VCALENDAR
VERSION:2.0
PRODID:-//Segelclub Wendelsee Thun//NONSGML kigkonsult.se iCalcreator 2.16.
 12//
METHOD:PUBLISH
X-MS-OLK-FORCEINSPECTOROPEN:TRUE
BEGIN:VEVENT
UID:20260419T155113CEST-2779fhFZ5U@Segelclub Wendelsee Thun
DTSTAMP:20260419T135113Z
DESCRIPTION:Apéro zwischendurch für die Senioren und Seniorinnen des SCWe\n
 \nDatum\, Zeit   \nFr\, 12. September 2025 von 10:30 Uhr bis\nca 11:30 Uhr
 \n\nOrt                   Burehuus Thun\nAnmeldung    keine\n\n07.09.2025/
  das Seniorenteam
DTSTART:20250912T103000
DTEND:20250912T113000
LOCATION:Burehuus
ORGANIZER:MAILTO:Segelclub Wendelsee Thun <info@scwe.ch>
SUMMARY:Apéro zwischendurch
END:VEVENT
END:VCALENDAR
