BEGIN:VCALENDAR
VERSION:2.0
PRODID:-//Segelclub Wendelsee Thun//NONSGML kigkonsult.se iCalcreator 2.16.
 12//
METHOD:PUBLISH
X-MS-OLK-FORCEINSPECTOROPEN:TRUE
BEGIN:VEVENT
UID:20260419T155200CEST-4377InluWt@Segelclub Wendelsee Thun
DTSTAMP:20260419T135200Z
DESCRIPTION:Wieder einmal ein Oktoberfest mit Weisswurst\, Brezn und Bier v
 om Fass\n\nDatum:            Freitag\, 5. September 2025\nZeit:           
        Ab 19:00 Uhr\nDetails:            Siehe Einladung\nAnmeldung:    Bi
 s am Mi\, 3. September 2025\n\nMünchen:        Eine Information\n\n19.04.2
 025/ 22.08.2025
DTSTART:20250905T190000
DTEND:20250905T230000
LOCATION:SCWe-Lokal
ORGANIZER:MAILTO:Segelclub Wendelsee Thun <info@scwe.ch>
SUMMARY:SCWe-Oktoberfest
END:VEVENT
END:VCALENDAR
