BEGIN:VCALENDAR
VERSION:2.0
PRODID:-//Segelclub Wendelsee Thun//NONSGML kigkonsult.se iCalcreator 2.16.
 12//
METHOD:PUBLISH
X-MS-OLK-FORCEINSPECTOROPEN:TRUE
BEGIN:VEVENT
UID:20260419T155159CEST-2941vzZ5Br@Segelclub Wendelsee Thun
DTSTAMP:20260419T135159Z
DESCRIPTION:\nJubiläumsregatta 50 Jahre SCWe\n\nDatum:        Sonnteg\, 17.
  August 2025\nStart:            14:00 Uhr\nDetails:        Siehe in der Au
 sschreibung\nNachher:     Rangverkündigung\n                     Kaffee un
 d Torte vom RCT\n
DTSTART:20250817T140000
DTEND:20250817T170000
LOCATION:Unteres Seebecken
ORGANIZER:MAILTO:Segelclub Wendelsee Thun <info@scwe.ch>
SUMMARY:Jubiläumsregatta 1975 - 2025
END:VEVENT
END:VCALENDAR
