BEGIN:VCALENDAR
VERSION:2.0
PRODID:-//Segelclub Wendelsee Thun//NONSGML kigkonsult.se iCalcreator 2.16.
 12//
METHOD:PUBLISH
X-MS-OLK-FORCEINSPECTOROPEN:TRUE
BEGIN:VEVENT
UID:20260419T174428CEST-2291Cw4VaI@Segelclub Wendelsee Thun
DTSTAMP:20260419T154428Z
DESCRIPTION:
DTSTART:20161228T193000
DTEND:20161229T005900
LOCATION:Clublokal
ORGANIZER:MAILTO:Segelclub Wendelsee Thun <info@scwe.ch>
SUMMARY:Altjahrs Höck
END:VEVENT
END:VCALENDAR
