BEGIN:VCALENDAR
VERSION:2.0
PRODID:-//Segelclub Wendelsee Thun//NONSGML kigkonsult.se iCalcreator 2.16.
 12//
METHOD:PUBLISH
X-MS-OLK-FORCEINSPECTOROPEN:TRUE
BEGIN:VEVENT
UID:20260419T155446CEST-1283NvUjo9@Segelclub Wendelsee Thun
DTSTAMP:20260419T135446Z
DESCRIPTION:\n\nIrgendwie hat der Petrus etwas gegen diese Fahrt! Der Samst
 ag\, 2. August ist auch verregnet..\n\nFahrt:               Sonntag\, 3. A
 ugust 2025\nZeit:                  13:30 Uhr Start -> Flotttille\n\nKurs: 
                 Siehe Plan (zum Mitnehmen)\nDetails:             Stehen in
  der Einladung\nAnmeldung:     Gerne mit der Mail\n\n\n06.06.2025/ 05.07.2
 025/ 24.07.2025/ 31.07.2025 \n
DTSTART:20250803T133000
DTEND:20250803T170000
LOCATION:Thun-Fischzucht
ORGANIZER:MAILTO:Segelclub Wendelsee Thun <info@scwe.ch>
SUMMARY:SCWe-Jubiläumsfahrt (neues Datum)
END:VEVENT
END:VCALENDAR
