BEGIN:VCALENDAR
VERSION:2.0
PRODID:-//Segelclub Wendelsee Thun//NONSGML kigkonsult.se iCalcreator 2.16.
 12//
METHOD:PUBLISH
X-MS-OLK-FORCEINSPECTOROPEN:TRUE
BEGIN:VEVENT
UID:20260419T155358CEST-7452uULrdK@Segelclub Wendelsee Thun
DTSTAMP:20260419T135358Z
DESCRIPTION:\nSCWe-Cup\, 3. TBSV-Cup-Regatta\n\nDatum\, Zeit:         Samst
 ag\, 16. August 2025\,\nStart:                     13:30 Uhr\nDetails     
               Siehe in der Ausschreibung\nAbend                    Einlauf
 bier\, Grill und\n                                Rangverkündigung\n\n19.0
 4.2025\n
DTSTART:20250816T133000
DTEND:20250816T190000
LOCATION:Unteres Seebecken
ORGANIZER:MAILTO:Segelclub Wendelsee Thun <info@scwe.ch>
SUMMARY:SCWe-Cup 2025
END:VEVENT
END:VCALENDAR
