BEGIN:VCALENDAR
VERSION:2.0
PRODID:-//Segelclub Wendelsee Thun//NONSGML kigkonsult.se iCalcreator 2.16.
 12//
METHOD:PUBLISH
X-MS-OLK-FORCEINSPECTOROPEN:TRUE
BEGIN:VEVENT
UID:20260419T155307CEST-7802tpSZ0k@Segelclub Wendelsee Thun
DTSTAMP:20260419T135307Z
DESCRIPTION:Ausflug der Senioren und Seniorinnen des SCWe\n\nDatum\, Zeit  
   Fr\, 15. August 2025\nOrt                   Ausflug mit Apéro und Mittag
 essen\n                         nach Faulensee 'Hecht'\nFahrt             
   mit dem Schiff/ Auto . . . .\nDetails             siehe Einladung\nAnmel
 dung    Ja\, bis am 12. August 2025\n\nFisch Restaurant in Faulensee - See
 restaraunt Hecht\n\n24.04.2025/20.07.2025 das Seniorenteam\n
DTSTART:20250815T110000
DTEND:20250815T150000
LOCATION:Faulensee 'Hecht'
ORGANIZER:MAILTO:Segelclub Wendelsee Thun <info@scwe.ch>
SUMMARY:Apéro zwischendurch
END:VEVENT
END:VCALENDAR
