BEGIN:VCALENDAR
VERSION:2.0
PRODID:-//Segelclub Wendelsee Thun//NONSGML kigkonsult.se iCalcreator 2.16.
 12//
METHOD:PUBLISH
X-MS-OLK-FORCEINSPECTOROPEN:TRUE
BEGIN:VEVENT
UID:20260419T155446CEST-3814MeO3mu@Segelclub Wendelsee Thun
DTSTAMP:20260419T135446Z
DESCRIPTION:\n\nDatum\, Zeit:    Freitag\, 6. Juni 2025\, 19:00 Uhr\nOrt:  
                  SCWe-Lokal\nThema:             Aelplermagronen\, Apfelmus
 \, Salat\nKöche:              Marta\, Fredy\nWirt:                  Dani\n
 Anmelden:       Bis am Di\, 3. Juni 2025\n\n25.05.2025/ MP
DTSTART:20250606T190000
DTEND:20250606T230000
LOCATION:SCWe-Clubraum
ORGANIZER:MAILTO:Segelclub Wendelsee Thun <info@scwe.ch>
SUMMARY:Juni-Höck
END:VEVENT
END:VCALENDAR
