BEGIN:VCALENDAR
VERSION:2.0
PRODID:-//Segelclub Wendelsee Thun//NONSGML kigkonsult.se iCalcreator 2.16.
 12//
METHOD:PUBLISH
X-MS-OLK-FORCEINSPECTOROPEN:TRUE
BEGIN:VEVENT
UID:20260419T155259CEST-7534uoJKxi@Segelclub Wendelsee Thun
DTSTAMP:20260419T135259Z
DESCRIPTION:\nAm 15. Mai 2025 feiern wir vor oder im SCWe-Lokal den 50. Geb
 urtstag des Clubs.\nWenn du mehr darüber wissen möchtest\, schaue unter Cl
 ub -> Geschichte nach.\n\nDatum\, Zeit:         Do\, 15. Mai 2025\, 10:30 
 Uhr\nOrt:                        Räseli / bei Regen oben\nAngebot         
        Cüpli mit Beilagen\nAnmeldung           Ja\, gerne\n\n18.04.2025/ D
 as Seniorenteam\n 
DTSTART:20250515T103000
DTEND:20250515T120000
LOCATION:SCWe
ORGANIZER:MAILTO:Segelclub Wendelsee Thun <info@scwe.ch>
SUMMARY:Apéro am Gründungstag
END:VEVENT
END:VCALENDAR
