BEGIN:VCALENDAR
VERSION:2.0
PRODID:-//Segelclub Wendelsee Thun//NONSGML kigkonsult.se iCalcreator 2.16.
 12//
METHOD:PUBLISH
X-MS-OLK-FORCEINSPECTOROPEN:TRUE
BEGIN:VEVENT
UID:20260419T155300CEST-7671UjRfR3@Segelclub Wendelsee Thun
DTSTAMP:20260419T135300Z
DESCRIPTION:\n\nApéro zwischendurch für die Senioren und Seniorinnen des SC
 We\n\nDatum\, Zeit    Fr\, 13. Juni 2025 um 10:30 Uhr\nOrt                
    Burehuus Thun\nAnmeldung    keine\n\n19.04.2025/ das Seniorenteam
DTSTART:20250613T103000
DTEND:20250613T113000
LOCATION:Burehuus
ORGANIZER:MAILTO:Segelclub Wendelsee Thun <info@scwe.ch>
SUMMARY:Apéro zwischendurch
END:VEVENT
END:VCALENDAR
