BEGIN:VCALENDAR
VERSION:2.0
PRODID:-//Segelclub Wendelsee Thun//NONSGML kigkonsult.se iCalcreator 2.16.
 12//
METHOD:PUBLISH
X-MS-OLK-FORCEINSPECTOROPEN:TRUE
BEGIN:VEVENT
UID:20260419T155318CEST-3676zS0L8h@Segelclub Wendelsee Thun
DTSTAMP:20260419T135318Z
DESCRIPTION:Wegen dem Absegeln am 10. Mai 2025 führen wir keinen Maihöck du
 rch.\nKommt segeln am 10. Mai mit anschliessendem Apéro.\n
DTSTART:20250502T190000
DTEND:20250502T230100
ORGANIZER:MAILTO:Segelclub Wendelsee Thun <info@scwe.ch>
SUMMARY:Kein Maihöck
END:VEVENT
END:VCALENDAR
