BEGIN:VCALENDAR
VERSION:2.0
PRODID:-//Segelclub Wendelsee Thun//NONSGML kigkonsult.se iCalcreator 2.16.
 12//
METHOD:PUBLISH
X-MS-OLK-FORCEINSPECTOROPEN:TRUE
BEGIN:VEVENT
UID:20260419T171631CEST-2608mZCgij@Segelclub Wendelsee Thun
DTSTAMP:20260419T151631Z
DESCRIPTION:gemütliches Zusammensein bei Glühwein und Gritibänze\n\nwer lie
 ber ein anderes Getränk nimmt - so hat unser Clubwirt das gewohnte Angebot
  zur Verfügung.\n\nUnkostenbeitrag von Fr. 5.- für Glühwein und Gritibänz 
    \n\nAnmeldung bis bitte bis Mittwoch 30.11. Mitternacht\n
DTSTART:20161202T200000
DTEND:20161203T005900
LOCATION:Clublokal
ORGANIZER:MAILTO:Segelclub Wendelsee Thun <info@scwe.ch>
SUMMARY:Chlouse Höck
END:VEVENT
END:VCALENDAR
