BEGIN:VCALENDAR
VERSION:2.0
PRODID:-//Segelclub Wendelsee Thun//NONSGML kigkonsult.se iCalcreator 2.16.
 12//
METHOD:PUBLISH
X-MS-OLK-FORCEINSPECTOROPEN:TRUE
BEGIN:VEVENT
UID:20260419T153245CEST-77849VKObF@Segelclub Wendelsee Thun
DTSTAMP:20260419T133245Z
DESCRIPTION:\n\nDatum      Freitag\, 11. April 2025\nZeit           Ab 19:0
 0 Uhr\nOrt            Im Clubraum\nDetails      Siehe in der Einladung\nKö
 che       Koni und Ruth\nWirte        Fritz\, Marta\, Silvia\n\nAnmeldung 
 bis Mo\, 07.04.2025\n\n23.03.2025/ Vorstand
DTSTART:20250411T190000
DTEND:20250411T230000
LOCATION:SCWe
ORGANIZER:MAILTO:Segelclub Wendelsee Thun <info@scwe.ch>
SUMMARY:Aprilhöck
END:VEVENT
END:VCALENDAR
