BEGIN:VCALENDAR
VERSION:2.0
PRODID:-//Segelclub Wendelsee Thun//NONSGML kigkonsult.se iCalcreator 2.16.
 12//
METHOD:PUBLISH
X-MS-OLK-FORCEINSPECTOROPEN:TRUE
BEGIN:VEVENT
UID:20260419T154401CEST-9464i703l0@Segelclub Wendelsee Thun
DTSTAMP:20260419T134401Z
DESCRIPTION:Eiertütschete am Donnerstag\, 13. April 2025\nEin Tag vor dem K
 arfreitag.\n\nBeginn 10:30 Uhr im SCWe-Raum.
DTSTART:20250417T103000
DTEND:20250417T113000
LOCATION:SCWe-Lokal
ORGANIZER:MAILTO:Segelclub Wendelsee Thun <info@scwe.ch>
SUMMARY:Eiertütschete
END:VEVENT
END:VCALENDAR
