BEGIN:VCALENDAR
VERSION:2.0
PRODID:-//Segelclub Wendelsee Thun//NONSGML kigkonsult.se iCalcreator 2.16.
 12//
METHOD:PUBLISH
X-MS-OLK-FORCEINSPECTOROPEN:TRUE
BEGIN:VEVENT
UID:20260419T153344CEST-04727tUSd2@Segelclub Wendelsee Thun
DTSTAMP:20260419T133344Z
DESCRIPTION:Apéro am Donnerstag\, 13. März 2025 von 10:30 bis 11:30 Uhr.\n(
 Am 14.03.2025 ist Helferabend)\n\nDer Ort für den Apéro wird noch festgele
 gt.\n
DTSTART:20250313T103000
DTEND:20250313T110000
LOCATION:noch offen
ORGANIZER:MAILTO:Segelclub Wendelsee Thun <info@scwe.ch>
SUMMARY:Apéro zwischendurch
END:VEVENT
END:VCALENDAR
