BEGIN:VCALENDAR
VERSION:2.0
PRODID:-//Segelclub Wendelsee Thun//NONSGML kigkonsult.se iCalcreator 2.16.
 12//
METHOD:PUBLISH
X-MS-OLK-FORCEINSPECTOROPEN:TRUE
BEGIN:VEVENT
UID:20260419T155453CEST-1108OorF4R@Segelclub Wendelsee Thun
DTSTAMP:20260419T135453Z
DESCRIPTION:Wir starten die Einhandregatta als TBSV-Einhand-Cup 2025\n\nDat
 um:     Samstag\, 21. Juni 2025\nZeit:          Ab 13:30 Uhr\nKurs:       
   Siehe Ausschreibung\, Seite 3\n\nKlassen\nJollen\, Yachten. Alle mit min
 d einer 2-Mann-Crew nach Klassenvorschrift (zB keine Laser\, Finn . . .)\n
 \nRangverkündigung\nca um 17:15 Uhr beim SCWe mit Einlaufbier\, Rangpreise
  und Jubiläumspreis.\n\n20.05.2025/MP\n
DTSTART:20250621T133000
DTEND:20250621T180000
LOCATION:Unteres Seebecken
ORGANIZER:MAILTO:Segelclub Wendelsee Thun <info@scwe.ch>
SUMMARY:SCWe-Einhandregatta
END:VEVENT
END:VCALENDAR
