BEGIN:VCALENDAR
VERSION:2.0
PRODID:-//Segelclub Wendelsee Thun//NONSGML kigkonsult.se iCalcreator 2.16.
 12//
METHOD:PUBLISH
X-MS-OLK-FORCEINSPECTOROPEN:TRUE
BEGIN:VEVENT
UID:20260419T155159CEST-02940ExV4G@Segelclub Wendelsee Thun
DTSTAMP:20260419T135159Z
DESCRIPTION:\n\nSCWe-Ansegeln 2025 findet statt\n\nDas Ansegeln ist der off
 izielle Saisonstart im SCWe\nDatum\, Zeit    Sa\, 10. Mai 2025 um 13:30 Uh
 r\nStart                ca 200 m ausserhalb Lachenkanal\nKurs             
     Siehe Einladung\nApéro              ca 16:30 Uhr im Clubhaus\n\nAnmeld
 ung: Ja gerne für das Segeln und/oder für den Apéro\n\n13.10.2024/ der Vor
 stand
DTSTART:20250510T133000
DTEND:20250510T180000
LOCATION:Unteres Seebecken/ SCWe
ORGANIZER:MAILTO:Segelclub Wendelsee Thun <info@scwe.ch>
SUMMARY:Ansegeln 2025
END:VEVENT
END:VCALENDAR
