BEGIN:VCALENDAR
VERSION:2.0
PRODID:-//Segelclub Wendelsee Thun//NONSGML kigkonsult.se iCalcreator 2.16.
 12//
METHOD:PUBLISH
X-MS-OLK-FORCEINSPECTOROPEN:TRUE
BEGIN:VEVENT
UID:20260419T155358CEST-4926OAgvUu@Segelclub Wendelsee Thun
DTSTAMP:20260419T135358Z
DESCRIPTION:Jubiläumsfeier\n\nDer SCWe wurde am 15. Mai 1975 in Hilterfinge
 n im Hotel Marbach gegründet und feiert das 50-Jahre-Jubiläum. \n\nWir wol
 len diesen Anlass mit euch zusammen feiern und treffen uns dazu im Partyli
 kal 'Wendelsee' in Thun zum Apéro und Brunch.\nBitte reserviert dafür den 
 Sonntag\, 18. Mai 2025 ab 10:00 Uhr.\nWir werden euch gerne rechtzeitig di
 e entsprechende Einladung zustellen.\n\n18.04.2025/ der Vorstand\n
DTSTART:20250518T100000
DTEND:20250518T150000
LOCATION:Partylokal Wendelsee
ORGANIZER:MAILTO:Segelclub Wendelsee Thun <info@scwe.ch>
SUMMARY:50 Jahre SCWe
END:VEVENT
END:VCALENDAR
