BEGIN:VCALENDAR
VERSION:2.0
PRODID:-//Segelclub Wendelsee Thun//NONSGML kigkonsult.se iCalcreator 2.16.
 12//
METHOD:PUBLISH
X-MS-OLK-FORCEINSPECTOROPEN:TRUE
BEGIN:VEVENT
UID:20260419T154616CEST-9874O7UFun@Segelclub Wendelsee Thun
DTSTAMP:20260419T134616Z
DESCRIPTION:Helferabend 2025\n\nAm 14. März 2025.\nSpezielle Einladung an d
 ie Helfer und Helferinnen der Segelsaison 2024.\n\n22.12.2024/ Vorstand
DTSTART:20250314T190000
DTEND:20250314T230000
LOCATION:Thun\, Schärmehof
ORGANIZER:MAILTO:Segelclub Wendelsee Thun <info@scwe.ch>
SUMMARY:Helferabend 2025
END:VEVENT
END:VCALENDAR
