BEGIN:VCALENDAR
VERSION:2.0
PRODID:-//Segelclub Wendelsee Thun//NONSGML kigkonsult.se iCalcreator 2.16.
 12//
METHOD:PUBLISH
X-MS-OLK-FORCEINSPECTOROPEN:TRUE
BEGIN:VEVENT
UID:20260419T155439CEST-2798dAOT4F@Segelclub Wendelsee Thun
DTSTAMP:20260419T135439Z
DESCRIPTION:Apéro und Mittagessen im Holiday\nWir geniessen einen Apéro mit
  anschliessedem Mittagessen.\n\nHotel Holiday Thun - Businesshotel und Fer
 ienhotel am Thunersee - Restaurant\n\n3.11.2024/ Präsident\n\n 
DTSTART:20241115T113000
DTEND:20241115T133000
LOCATION:Holiday Thun
ORGANIZER:MAILTO:Segelclub Wendelsee Thun <info@scwe.ch>
SUMMARY:Apéro und Mittagessen
END:VEVENT
END:VCALENDAR
