BEGIN:VCALENDAR
VERSION:2.0
PRODID:-//Segelclub Wendelsee Thun//NONSGML kigkonsult.se iCalcreator 2.16.
 12//
METHOD:PUBLISH
X-MS-OLK-FORCEINSPECTOROPEN:TRUE
BEGIN:VEVENT
UID:20260419T153245CEST-6969CFVKjJ@Segelclub Wendelsee Thun
DTSTAMP:20260419T133245Z
DESCRIPTION:GV 2025 im Restaurant Zündkapsel in Thun\n- Beginn um 19:30 Uhr
 \n- Anschliessend Apéro
DTSTART:20250321T193000
DTEND:20250321T230000
LOCATION:Rest Zündkapsel in Thun
ORGANIZER:MAILTO:Segelclub Wendelsee Thun <info@scwe.ch>
SUMMARY:Generalversammlung 2025
END:VEVENT
END:VCALENDAR
