BEGIN:VCALENDAR
VERSION:2.0
PRODID:-//Segelclub Wendelsee Thun//NONSGML kigkonsult.se iCalcreator 2.16.
 12//
METHOD:PUBLISH
X-MS-OLK-FORCEINSPECTOROPEN:TRUE
BEGIN:VEVENT
UID:20260419T174010CEST-6805feS2Pg@Segelclub Wendelsee Thun
DTSTAMP:20260419T154010Z
DESCRIPTION:
DTSTART:20160902T210000
DTEND:20160903T015900
LOCATION:Clublokal
ORGANIZER:MAILTO:Segelclub Wendelsee Thun <info@scwe.ch>
SUMMARY:September Höck
END:VEVENT
END:VCALENDAR
