BEGIN:VCALENDAR
VERSION:2.0
PRODID:-//Segelclub Wendelsee Thun//NONSGML kigkonsult.se iCalcreator 2.16.
 12//
METHOD:PUBLISH
X-MS-OLK-FORCEINSPECTOROPEN:TRUE
BEGIN:VEVENT
UID:20260419T154345CEST-8402DBvPwN@Segelclub Wendelsee Thun
DTSTAMP:20260419T134345Z
DESCRIPTION:Anstossen auf's Neue Jahr im Burehuus Thun.\n\nFreitag\, 17. Ja
 nuar 2025 um 11:00 Uhr
DTSTART:20250117T110000
DTEND:20250117T110000
LOCATION:Im Rest Burehuus Thun
ORGANIZER:MAILTO:Segelclub Wendelsee Thun <info@scwe.ch>
SUMMARY:Apéro zwischendurch
END:VEVENT
END:VCALENDAR
